Package: SELEX Version: 1.39.0 Command: /home/biocbuild/R/R/bin/R CMD check --install=check:SELEX.install-out.txt --library=/home/biocbuild/R/R/site-library --no-vignettes --timings SELEX_1.39.0.tar.gz StartedAt: 2025-01-28 15:12:24 -0000 (Tue, 28 Jan 2025) EndedAt: 2025-01-28 15:14:25 -0000 (Tue, 28 Jan 2025) EllapsedTime: 121.1 seconds RetCode: 0 Status: OK CheckDir: SELEX.Rcheck Warnings: 0