Package: SELEX Version: 1.39.0 Command: /home/biocbuild/R/R/bin/R CMD INSTALL SELEX StartedAt: 2025-01-29 19:40:27 -0000 (Wed, 29 Jan 2025) EndedAt: 2025-01-29 19:40:42 -0000 (Wed, 29 Jan 2025) EllapsedTime: 15.0 seconds RetCode: 0 Status: OK