Package: SELEX Version: 1.39.0 Command: /home/biocbuild/bbs-3.21-bioc/R/bin/R CMD build --keep-empty-dirs --no-resave-data SELEX StartedAt: 2025-02-04 19:11:36 -0500 (Tue, 04 Feb 2025) EndedAt: 2025-02-04 19:11:59 -0500 (Tue, 04 Feb 2025) EllapsedTime: 23.0 seconds RetCode: 0 Status: OK PackageFile: SELEX_1.39.0.tar.gz PackageFileSize: 4.034 MiB