Package: SELEX Version: 1.39.0 Command: /home/biocbuild/bbs-3.21-bioc/R/bin/R CMD check --install=check:SELEX.install-out.txt --library=/home/biocbuild/bbs-3.21-bioc/R/site-library --timings SELEX_1.39.0.tar.gz StartedAt: 2025-02-05 02:39:41 -0500 (Wed, 05 Feb 2025) EndedAt: 2025-02-05 02:41:28 -0500 (Wed, 05 Feb 2025) EllapsedTime: 107.1 seconds RetCode: 0 Status: OK CheckDir: SELEX.Rcheck Warnings: 0