Package: SELEX Version: 1.39.0 Command: /home/biocbuild/bbs-3.21-bioc/R/bin/R CMD INSTALL SELEX StartedAt: 2025-02-04 15:14:23 -0500 (Tue, 04 Feb 2025) EndedAt: 2025-02-04 15:14:34 -0500 (Tue, 04 Feb 2025) EllapsedTime: 10.5 seconds RetCode: 0 Status: OK