Package: SELEX Version: 1.39.0 Command: chmod a+r SELEX -R && E:\biocbuild\bbs-3.21-bioc\R\bin\R.exe CMD build --keep-empty-dirs --no-resave-data SELEX StartedAt: 2025-02-04 21:37:41 -0500 (Tue, 04 Feb 2025) EndedAt: 2025-02-04 21:38:28 -0500 (Tue, 04 Feb 2025) EllapsedTime: 46.6 seconds RetCode: 0 Status: OK PackageFile: SELEX_1.39.0.tar.gz PackageFileSize: 4.109 MiB