Package: SEtools Version: 1.21.0 Command: rm -rf SEtools.buildbin-libdir && mkdir SEtools.buildbin-libdir && /Users/biocbuild/BBS/utils/build-universal.sh SEtools_1.21.0.tar.gz /Library/Frameworks/R.framework/Resources/bin/R SEtools.buildbin-libdir StartedAt: 2025-02-04 22:32:38 -0500 (Tue, 04 Feb 2025) EndedAt: 2025-02-04 22:32:53 -0500 (Tue, 04 Feb 2025) EllapsedTime: 15.3 seconds RetCode: 0 Status: OK PackageFile: SEtools_1.21.0.tgz PackageFileSize: 376.9 KiB