Package: SEtools Version: 1.21.0 Command: /Library/Frameworks/R.framework/Resources/bin/R CMD build --keep-empty-dirs --no-resave-data SEtools StartedAt: 2025-02-04 17:36:39 -0500 (Tue, 04 Feb 2025) EndedAt: 2025-02-04 17:37:00 -0500 (Tue, 04 Feb 2025) EllapsedTime: 21.2 seconds RetCode: 0 Status: OK PackageFile: SEtools_1.21.0.tar.gz PackageFileSize: 538.4 KiB