Package: SEtools Version: 1.21.0 Command: /Library/Frameworks/R.framework/Resources/bin/R CMD INSTALL SEtools StartedAt: 2025-02-04 15:27:15 -0500 (Tue, 04 Feb 2025) EndedAt: 2025-02-04 15:27:29 -0500 (Tue, 04 Feb 2025) EllapsedTime: 13.7 seconds RetCode: 0 Status: OK