Package: SEtools Version: 1.21.0 Command: /Library/Frameworks/R.framework/Resources/bin/R CMD build --keep-empty-dirs --no-resave-data SEtools StartedAt: 2025-02-04 18:18:54 -0500 (Tue, 04 Feb 2025) EndedAt: 2025-02-04 18:19:49 -0500 (Tue, 04 Feb 2025) EllapsedTime: 54.9 seconds RetCode: 0 Status: OK PackageFile: SEtools_1.21.0.tar.gz PackageFileSize: 538.2 KiB