Package: SEtools Version: 1.21.0 Command: /Library/Frameworks/R.framework/Resources/bin/R CMD check --install=check:SEtools.install-out.txt --library=/Library/Frameworks/R.framework/Resources/library --no-vignettes --timings SEtools_1.21.0.tar.gz StartedAt: 2025-02-04 23:16:26 -0500 (Tue, 04 Feb 2025) EndedAt: 2025-02-04 23:20:54 -0500 (Tue, 04 Feb 2025) EllapsedTime: 268.0 seconds RetCode: 0 Status: OK CheckDir: SEtools.Rcheck Warnings: 0