Package: SEtools Version: 1.21.0 Command: /home/biocbuild/bbs-3.21-bioc/R/bin/R CMD check --install=check:SEtools.install-out.txt --library=/home/biocbuild/bbs-3.21-bioc/R/site-library --timings SEtools_1.21.0.tar.gz StartedAt: 2025-02-10 02:36:08 -0500 (Mon, 10 Feb 2025) EndedAt: 2025-02-10 02:40:16 -0500 (Mon, 10 Feb 2025) EllapsedTime: 247.4 seconds RetCode: 0 Status: OK CheckDir: SEtools.Rcheck Warnings: 0