Package: SGSeq Version: 1.41.0 Command: rm -rf SGSeq.buildbin-libdir && mkdir SGSeq.buildbin-libdir && /Users/biocbuild/BBS/utils/build-universal.sh SGSeq_1.41.0.tar.gz /Library/Frameworks/R.framework/Resources/bin/R SGSeq.buildbin-libdir StartedAt: 2025-02-09 22:30:53 -0500 (Sun, 09 Feb 2025) EndedAt: 2025-02-09 22:31:11 -0500 (Sun, 09 Feb 2025) EllapsedTime: 17.4 seconds RetCode: 0 Status: OK PackageFile: SGSeq_1.41.0.tgz PackageFileSize: 1.783 MiB