Package: SGSeq Version: 1.41.0 Command: /Library/Frameworks/R.framework/Resources/bin/R CMD check --install=check:SGSeq.install-out.txt --library=/Library/Frameworks/R.framework/Resources/library --no-vignettes --timings SGSeq_1.41.0.tar.gz StartedAt: 2025-02-09 21:20:50 -0500 (Sun, 09 Feb 2025) EndedAt: 2025-02-09 21:23:54 -0500 (Sun, 09 Feb 2025) EllapsedTime: 184.3 seconds RetCode: 0 Status: OK CheckDir: SGSeq.Rcheck Warnings: 0