Package: SGSeq Version: 1.41.0 Command: /home/biocbuild/R/R/bin/R CMD build --keep-empty-dirs --no-resave-data SGSeq StartedAt: 2025-01-29 02:20:00 -0000 (Wed, 29 Jan 2025) EndedAt: 2025-01-29 02:24:16 -0000 (Wed, 29 Jan 2025) EllapsedTime: 255.3 seconds RetCode: 0 Status: OK PackageFile: SGSeq_1.41.0.tar.gz PackageFileSize: 1.673 MiB