Package: SGSeq Version: 1.41.0 Command: /home/biocbuild/R/R/bin/R CMD check --install=check:SGSeq.install-out.txt --library=/home/biocbuild/R/R/site-library --no-vignettes --timings SGSeq_1.41.0.tar.gz StartedAt: 2025-01-28 15:17:30 -0000 (Tue, 28 Jan 2025) EndedAt: 2025-01-28 15:30:08 -0000 (Tue, 28 Jan 2025) EllapsedTime: 757.9 seconds RetCode: 0 Status: OK CheckDir: SGSeq.Rcheck Warnings: 0