Package: SGSeq Version: 1.41.0 Command: /home/biocbuild/R/R/bin/R CMD INSTALL SGSeq StartedAt: 2025-01-29 19:51:22 -0000 (Wed, 29 Jan 2025) EndedAt: 2025-01-29 19:52:18 -0000 (Wed, 29 Jan 2025) EllapsedTime: 56.1 seconds RetCode: 0 Status: OK