Package: SGSeq Version: 1.41.0 Command: rm -rf SGSeq.buildbin-libdir && mkdir SGSeq.buildbin-libdir && /Users/biocbuild/BBS/utils/build-universal.sh SGSeq_1.41.0.tar.gz /Library/Frameworks/R.framework/Resources/bin/R SGSeq.buildbin-libdir StartedAt: 2025-02-13 00:58:48 -0500 (Thu, 13 Feb 2025) EndedAt: 2025-02-13 00:59:46 -0500 (Thu, 13 Feb 2025) EllapsedTime: 58.7 seconds RetCode: 0 Status: OK PackageFile: SGSeq_1.41.0.tgz PackageFileSize: 1.776 MiB