Package: SGSeq Version: 1.41.0 Command: /Library/Frameworks/R.framework/Resources/bin/R CMD INSTALL SGSeq StartedAt: 2025-02-09 15:18:31 -0500 (Sun, 09 Feb 2025) EndedAt: 2025-02-09 15:19:28 -0500 (Sun, 09 Feb 2025) EllapsedTime: 56.4 seconds RetCode: 0 Status: OK