Package: SGSeq Version: 1.41.0 Command: /home/biocbuild/bbs-3.21-bioc/R/bin/R CMD INSTALL SGSeq StartedAt: 2025-02-09 15:42:36 -0500 (Sun, 09 Feb 2025) EndedAt: 2025-02-09 15:43:17 -0500 (Sun, 09 Feb 2025) EllapsedTime: 41.1 seconds RetCode: 0 Status: OK