Package: SGSeq Version: 1.41.0 Command: rm -rf SGSeq.buildbin-libdir && mkdir SGSeq.buildbin-libdir && E:\biocbuild\bbs-3.21-bioc\R\bin\R.exe CMD INSTALL --build --library=SGSeq.buildbin-libdir SGSeq_1.41.0.tar.gz StartedAt: 2025-02-04 08:55:42 -0500 (Tue, 04 Feb 2025) EndedAt: 2025-02-04 08:57:38 -0500 (Tue, 04 Feb 2025) EllapsedTime: 115.7 seconds RetCode: 0 Status: OK PackageFile: SGSeq_1.41.0.zip PackageFileSize: 1.684 MiB