Package: SGSeq Version: 1.41.0 Command: chmod a+r SGSeq -R && E:\biocbuild\bbs-3.21-bioc\R\bin\R.exe CMD build --keep-empty-dirs --no-resave-data SGSeq StartedAt: 2025-02-09 21:39:01 -0500 (Sun, 09 Feb 2025) EndedAt: 2025-02-09 21:42:59 -0500 (Sun, 09 Feb 2025) EllapsedTime: 238.3 seconds RetCode: 0 Status: OK PackageFile: SGSeq_1.41.0.tar.gz PackageFileSize: 1.644 MiB