Package: SGSeq Version: 1.41.0 Command: E:\biocbuild\bbs-3.21-bioc\R\bin\R.exe CMD INSTALL SGSeq StartedAt: 2025-02-09 16:24:51 -0500 (Sun, 09 Feb 2025) EndedAt: 2025-02-09 16:26:19 -0500 (Sun, 09 Feb 2025) EllapsedTime: 88.1 seconds RetCode: 0 Status: OK