Package: SICtools Version: 1.37.0 Command: rm -rf SICtools.buildbin-libdir && mkdir SICtools.buildbin-libdir && /Users/biocbuild/BBS/utils/build-universal.sh SICtools_1.37.0.tar.gz /Library/Frameworks/R.framework/Resources/bin/R SICtools.buildbin-libdir StartedAt: 2025-02-12 22:36:09 -0500 (Wed, 12 Feb 2025) EndedAt: 2025-02-12 22:36:24 -0500 (Wed, 12 Feb 2025) EllapsedTime: 15.4 seconds RetCode: 0 Status: OK PackageFile: SICtools_1.37.0.tgz PackageFileSize: 1.311 MiB