Package: SICtools Version: 1.37.0 Command: /Library/Frameworks/R.framework/Resources/bin/R CMD check --install=check:SICtools.install-out.txt --library=/Library/Frameworks/R.framework/Resources/library --no-vignettes --timings SICtools_1.37.0.tar.gz StartedAt: 2025-02-09 21:21:36 -0500 (Sun, 09 Feb 2025) EndedAt: 2025-02-09 21:22:14 -0500 (Sun, 09 Feb 2025) EllapsedTime: 38.5 seconds RetCode: 0 Status: WARNINGS CheckDir: SICtools.Rcheck Warnings: 1