Package: SICtools Version: 1.37.0 Command: /Library/Frameworks/R.framework/Resources/bin/R CMD INSTALL SICtools StartedAt: 2025-02-09 15:09:58 -0500 (Sun, 09 Feb 2025) EndedAt: 2025-02-09 15:10:11 -0500 (Sun, 09 Feb 2025) EllapsedTime: 13.0 seconds RetCode: 0 Status: OK