Package: SICtools Version: 1.37.0 Command: /home/biocbuild/R/R/bin/R CMD INSTALL SICtools StartedAt: 2025-01-29 19:53:12 -0000 (Wed, 29 Jan 2025) EndedAt: 2025-01-29 19:54:03 -0000 (Wed, 29 Jan 2025) EllapsedTime: 51.6 seconds RetCode: 0 Status: OK