Package: SICtools Version: 1.37.0 Command: /home/biocbuild/bbs-3.21-bioc/R/bin/R CMD check --install=check:SICtools.install-out.txt --library=/home/biocbuild/bbs-3.21-bioc/R/site-library --timings SICtools_1.37.0.tar.gz StartedAt: 2025-02-10 02:38:48 -0500 (Mon, 10 Feb 2025) EndedAt: 2025-02-10 02:40:24 -0500 (Mon, 10 Feb 2025) EllapsedTime: 95.2 seconds RetCode: 0 Status: WARNINGS CheckDir: SICtools.Rcheck Warnings: 1