Package: SICtools Version: 1.37.0 Command: /home/biocbuild/bbs-3.21-bioc/R/bin/R CMD INSTALL SICtools StartedAt: 2025-02-09 15:16:58 -0500 (Sun, 09 Feb 2025) EndedAt: 2025-02-09 15:17:34 -0500 (Sun, 09 Feb 2025) EllapsedTime: 35.5 seconds RetCode: 0 Status: OK