Package: SIM Version: 1.77.0 Command: rm -rf SIM.buildbin-libdir && mkdir SIM.buildbin-libdir && /Users/biocbuild/BBS/utils/build-universal.sh SIM_1.77.0.tar.gz /Library/Frameworks/R.framework/Resources/bin/R SIM.buildbin-libdir StartedAt: 2025-02-12 22:36:16 -0500 (Wed, 12 Feb 2025) EndedAt: 2025-02-12 22:36:25 -0500 (Wed, 12 Feb 2025) EllapsedTime: 9.2 seconds RetCode: 0 Status: OK PackageFile: SIM_1.77.0.tgz PackageFileSize: 619.4 KiB