Package: SIM Version: 1.77.0 Command: /Library/Frameworks/R.framework/Resources/bin/R CMD build --keep-empty-dirs --no-resave-data SIM StartedAt: 2025-02-09 18:28:54 -0500 (Sun, 09 Feb 2025) EndedAt: 2025-02-09 18:29:38 -0500 (Sun, 09 Feb 2025) EllapsedTime: 43.5 seconds RetCode: 0 Status: OK PackageFile: SIM_1.77.0.tar.gz PackageFileSize: 461 KiB