Package: SIM Version: 1.77.0 Command: /Library/Frameworks/R.framework/Resources/bin/R CMD check --install=check:SIM.install-out.txt --library=/Library/Frameworks/R.framework/Resources/library --no-vignettes --timings SIM_1.77.0.tar.gz StartedAt: 2025-02-09 23:38:52 -0500 (Sun, 09 Feb 2025) EndedAt: 2025-02-09 23:41:36 -0500 (Sun, 09 Feb 2025) EllapsedTime: 163.4 seconds RetCode: 0 Status: WARNINGS CheckDir: SIM.Rcheck Warnings: 1