Package: SIM Version: 1.77.0 Command: /Library/Frameworks/R.framework/Resources/bin/R CMD INSTALL SIM StartedAt: 2025-02-12 15:34:44 -0500 (Wed, 12 Feb 2025) EndedAt: 2025-02-12 15:35:11 -0500 (Wed, 12 Feb 2025) EllapsedTime: 27.1 seconds RetCode: 0 Status: OK