Package: SIM Version: 1.77.0 Command: /home/biocbuild/bbs-3.21-bioc/R/bin/R CMD build --keep-empty-dirs --no-resave-data SIM StartedAt: 2025-02-12 19:13:36 -0500 (Wed, 12 Feb 2025) EndedAt: 2025-02-12 19:14:09 -0500 (Wed, 12 Feb 2025) EllapsedTime: 33.0 seconds RetCode: 0 Status: OK PackageFile: SIM_1.77.0.tar.gz PackageFileSize: 461.3 KiB