Package: SIM Version: 1.77.0 Command: /home/biocbuild/bbs-3.21-bioc/R/bin/R CMD INSTALL SIM StartedAt: 2025-02-09 15:27:43 -0500 (Sun, 09 Feb 2025) EndedAt: 2025-02-09 15:28:01 -0500 (Sun, 09 Feb 2025) EllapsedTime: 18.0 seconds RetCode: 0 Status: OK