Package: SIMD Version: 1.25.0 Command: rm -rf SIMD.buildbin-libdir && mkdir SIMD.buildbin-libdir && /Users/biocbuild/BBS/utils/build-universal.sh SIMD_1.25.0.tar.gz /Library/Frameworks/R.framework/Resources/bin/R SIMD.buildbin-libdir StartedAt: 2025-02-04 22:32:57 -0500 (Tue, 04 Feb 2025) EndedAt: 2025-02-04 22:33:00 -0500 (Tue, 04 Feb 2025) EllapsedTime: 3.1 seconds RetCode: 0 Status: OK PackageFile: SIMD_1.25.0.tgz PackageFileSize: 357.9 KiB