Package: SIMD Version: 1.25.0 Command: /Library/Frameworks/R.framework/Resources/bin/R CMD build --keep-empty-dirs --no-resave-data SIMD StartedAt: 2025-02-04 17:37:44 -0500 (Tue, 04 Feb 2025) EndedAt: 2025-02-04 17:37:48 -0500 (Tue, 04 Feb 2025) EllapsedTime: 4.1 seconds RetCode: 0 Status: OK PackageFile: SIMD_1.25.0.tar.gz PackageFileSize: 332.8 KiB