Package: SIMD Version: 1.25.0 Command: /Library/Frameworks/R.framework/Resources/bin/R CMD check --install=check:SIMD.install-out.txt --library=/Library/Frameworks/R.framework/Resources/library --no-vignettes --timings SIMD_1.25.0.tar.gz StartedAt: 2025-02-09 21:23:11 -0500 (Sun, 09 Feb 2025) EndedAt: 2025-02-09 21:23:23 -0500 (Sun, 09 Feb 2025) EllapsedTime: 12.2 seconds RetCode: 0 Status: OK CheckDir: SIMD.Rcheck Warnings: 0