Package: SIMD Version: 1.25.0 Command: /Library/Frameworks/R.framework/Resources/bin/R CMD INSTALL SIMD StartedAt: 2025-02-04 15:03:27 -0500 (Tue, 04 Feb 2025) EndedAt: 2025-02-04 15:03:36 -0500 (Tue, 04 Feb 2025) EllapsedTime: 9.5 seconds RetCode: 0 Status: OK