Package: SIMD Version: 1.25.0 Command: /home/biocbuild/R/R/bin/R CMD build --keep-empty-dirs --no-resave-data SIMD StartedAt: 2025-01-29 02:22:33 -0000 (Wed, 29 Jan 2025) EndedAt: 2025-01-29 02:22:45 -0000 (Wed, 29 Jan 2025) EllapsedTime: 12.0 seconds RetCode: 0 Status: OK PackageFile: SIMD_1.25.0.tar.gz PackageFileSize: 356.3 KiB