Package: SIMD Version: 1.25.0 Command: /Library/Frameworks/R.framework/Resources/bin/R CMD build --keep-empty-dirs --no-resave-data SIMD StartedAt: 2025-02-09 18:29:01 -0500 (Sun, 09 Feb 2025) EndedAt: 2025-02-09 18:29:14 -0500 (Sun, 09 Feb 2025) EllapsedTime: 12.6 seconds RetCode: 0 Status: OK PackageFile: SIMD_1.25.0.tar.gz PackageFileSize: 332.8 KiB