Package: SIMD Version: 1.25.0 Command: /Library/Frameworks/R.framework/Resources/bin/R CMD INSTALL SIMD StartedAt: 2025-02-09 15:08:14 -0500 (Sun, 09 Feb 2025) EndedAt: 2025-02-09 15:08:38 -0500 (Sun, 09 Feb 2025) EllapsedTime: 24.0 seconds RetCode: 0 Status: OK