Package: SIMD Version: 1.25.0 Command: /home/biocbuild/bbs-3.21-bioc/R/bin/R CMD check --install=check:SIMD.install-out.txt --library=/home/biocbuild/bbs-3.21-bioc/R/site-library --timings SIMD_1.25.0.tar.gz StartedAt: 2025-02-05 02:48:02 -0500 (Wed, 05 Feb 2025) EndedAt: 2025-02-05 02:48:27 -0500 (Wed, 05 Feb 2025) EllapsedTime: 25.0 seconds RetCode: 0 Status: OK CheckDir: SIMD.Rcheck Warnings: 0