Package: SIMD Version: 1.25.0 Command: /home/biocbuild/bbs-3.21-bioc/R/bin/R CMD INSTALL SIMD StartedAt: 2025-02-04 15:02:40 -0500 (Tue, 04 Feb 2025) EndedAt: 2025-02-04 15:03:00 -0500 (Tue, 04 Feb 2025) EllapsedTime: 21.0 seconds RetCode: 0 Status: OK