Package: SIMD Version: 1.25.0 Command: rm -rf SIMD.buildbin-libdir && mkdir SIMD.buildbin-libdir && E:\biocbuild\bbs-3.21-bioc\R\bin\R.exe CMD INSTALL --build --library=SIMD.buildbin-libdir SIMD_1.25.0.tar.gz StartedAt: 2025-02-10 08:43:44 -0500 (Mon, 10 Feb 2025) EndedAt: 2025-02-10 08:43:55 -0500 (Mon, 10 Feb 2025) EllapsedTime: 10.5 seconds RetCode: 0 Status: OK PackageFile: SIMD_1.25.0.zip PackageFileSize: 364.1 KiB