Package: SIMD Version: 1.25.0 Command: chmod a+r SIMD -R && E:\biocbuild\bbs-3.21-bioc\R\bin\R.exe CMD build --keep-empty-dirs --no-resave-data SIMD StartedAt: 2025-02-09 21:41:38 -0500 (Sun, 09 Feb 2025) EndedAt: 2025-02-09 21:41:58 -0500 (Sun, 09 Feb 2025) EllapsedTime: 19.9 seconds RetCode: 0 Status: OK PackageFile: SIMD_1.25.0.tar.gz PackageFileSize: 333 KiB