Package: SIMD Version: 1.25.0 Command: E:\biocbuild\bbs-3.21-bioc\R\bin\R.exe CMD check --no-multiarch --install=check:SIMD.install-out.txt --library=E:\biocbuild\bbs-3.21-bioc\R\library --no-vignettes --timings SIMD_1.25.0.tar.gz StartedAt: 2025-02-10 05:29:21 -0500 (Mon, 10 Feb 2025) EndedAt: 2025-02-10 05:29:53 -0500 (Mon, 10 Feb 2025) EllapsedTime: 32.7 seconds RetCode: 0 Status: OK CheckDir: SIMD.Rcheck Warnings: 0