Package: SIMLR Version: 1.33.0 Command: rm -rf SIMLR.buildbin-libdir && mkdir SIMLR.buildbin-libdir && /Users/biocbuild/BBS/utils/build-universal.sh SIMLR_1.33.0.tar.gz /Library/Frameworks/R.framework/Resources/bin/R SIMLR.buildbin-libdir StartedAt: 2025-02-09 22:31:12 -0500 (Sun, 09 Feb 2025) EndedAt: 2025-02-09 22:31:21 -0500 (Sun, 09 Feb 2025) EllapsedTime: 9.2 seconds RetCode: 0 Status: OK PackageFile: SIMLR_1.33.0.tgz PackageFileSize: 4.221 MiB