Package: SIMLR Version: 1.33.0 Command: /Library/Frameworks/R.framework/Resources/bin/R CMD INSTALL SIMLR StartedAt: 2025-02-09 15:02:53 -0500 (Sun, 09 Feb 2025) EndedAt: 2025-02-09 15:02:59 -0500 (Sun, 09 Feb 2025) EllapsedTime: 6.4 seconds RetCode: 0 Status: OK