Package: SIMLR Version: 1.33.0 Command: /home/biocbuild/R/R/bin/R CMD INSTALL SIMLR StartedAt: 2025-01-29 19:34:11 -0000 (Wed, 29 Jan 2025) EndedAt: 2025-01-29 19:34:56 -0000 (Wed, 29 Jan 2025) EllapsedTime: 44.5 seconds RetCode: 0 Status: OK